BEGIN:VCALENDAR
VERSION:2.0
PRODID:-//hacksw/handcal//NONSGML v1.0//EN
CALSCALE:GREGORIAN
X-WR-TIMEZONE:Europe/Vienna
BEGIN:VEVENT
DESCRIPTION:Muttertags-Fotostation
DTSTART:20260509T100000
DTEND:20260509T170000
URL;VALUE=URI:https://www.q19.at/de/events/muttertags-kreativstation/2026-05-09
SUMMARY:Muttertags-Fotostation
DTSTAMP:20260424T141449
UID:69eb7ad91a69b
END:VEVENT
END:VCALENDAR