BEGIN:VCALENDAR
VERSION:2.0
PRODID:-//hacksw/handcal//NONSGML v1.0//EN
CALSCALE:GREGORIAN
X-WR-TIMEZONE:Europe/Vienna
BEGIN:VEVENT
DESCRIPTION:Muttertagsbasteln im Lollipop
DTSTART:20260509T090000
DTEND:20260509T130000
URL;VALUE=URI:https://www.q19.at/de/events/muttertag-basteln/2026-05-09
SUMMARY:Muttertagsbasteln im Lollipop
DTSTAMP:20260420T132614
UID:69e62976cbe6d
END:VEVENT
END:VCALENDAR